BEGIN:VCALENDAR
VERSION:2.0
PRODID:-//Carpenter&#039;s Local Union 106 - Altoona, IA Local Union Carpenter&#039;s - ECPv6.15.20//NONSGML v1.0//EN
CALSCALE:GREGORIAN
METHOD:PUBLISH
X-ORIGINAL-URL:https://carpenters106.org
X-WR-CALDESC:Events for Carpenter&#039;s Local Union 106 - Altoona, IA Local Union Carpenter&#039;s
REFRESH-INTERVAL;VALUE=DURATION:PT1H
X-Robots-Tag:noindex
X-PUBLISHED-TTL:PT1H
BEGIN:VTIMEZONE
TZID:America/New_York
BEGIN:DAYLIGHT
TZOFFSETFROM:-0500
TZOFFSETTO:-0400
TZNAME:EDT
DTSTART:20250309T070000
END:DAYLIGHT
BEGIN:STANDARD
TZOFFSETFROM:-0400
TZOFFSETTO:-0500
TZNAME:EST
DTSTART:20251102T060000
END:STANDARD
BEGIN:DAYLIGHT
TZOFFSETFROM:-0500
TZOFFSETTO:-0400
TZNAME:EDT
DTSTART:20260308T070000
END:DAYLIGHT
BEGIN:STANDARD
TZOFFSETFROM:-0400
TZOFFSETTO:-0500
TZNAME:EST
DTSTART:20261101T060000
END:STANDARD
BEGIN:DAYLIGHT
TZOFFSETFROM:-0500
TZOFFSETTO:-0400
TZNAME:EDT
DTSTART:20270314T070000
END:DAYLIGHT
BEGIN:STANDARD
TZOFFSETFROM:-0400
TZOFFSETTO:-0500
TZNAME:EST
DTSTART:20271107T060000
END:STANDARD
BEGIN:DAYLIGHT
TZOFFSETFROM:-0500
TZOFFSETTO:-0400
TZNAME:EDT
DTSTART:20280312T070000
END:DAYLIGHT
BEGIN:STANDARD
TZOFFSETFROM:-0400
TZOFFSETTO:-0500
TZNAME:EST
DTSTART:20281105T060000
END:STANDARD
BEGIN:DAYLIGHT
TZOFFSETFROM:-0500
TZOFFSETTO:-0400
TZNAME:EDT
DTSTART:20290311T070000
END:DAYLIGHT
BEGIN:STANDARD
TZOFFSETFROM:-0400
TZOFFSETTO:-0500
TZNAME:EST
DTSTART:20291104T060000
END:STANDARD
END:VTIMEZONE
BEGIN:VEVENT
DTSTART;TZID=America/New_York:20260505T180000
DTEND;TZID=America/New_York:20260505T190000
DTSTAMP:20260423T080738
CREATED:20250123T172018Z
LAST-MODIFIED:20250123T172018Z
UID:3443-1778004000-1778007600@carpenters106.org
SUMMARY:Union Meeting
DESCRIPTION:
URL:https://carpenters106.org/event-detail/union-meeting-12/2026-05-05/
LOCATION:Union Hall\, 1555 1st Ave N\, Altoona\, IA\, 50009\, United States
CATEGORIES:Monthly Local Meetings
END:VEVENT
BEGIN:VEVENT
DTSTART;TZID=America/New_York:20260602T180000
DTEND;TZID=America/New_York:20260602T190000
DTSTAMP:20260423T080738
CREATED:20250123T172018Z
LAST-MODIFIED:20250123T172018Z
UID:3444-1780423200-1780426800@carpenters106.org
SUMMARY:Union Meeting
DESCRIPTION:
URL:https://carpenters106.org/event-detail/union-meeting-12/2026-06-02/
LOCATION:Union Hall\, 1555 1st Ave N\, Altoona\, IA\, 50009\, United States
CATEGORIES:Monthly Local Meetings
END:VEVENT
BEGIN:VEVENT
DTSTART;TZID=America/New_York:20260707T180000
DTEND;TZID=America/New_York:20260707T190000
DTSTAMP:20260423T080738
CREATED:20250123T172018Z
LAST-MODIFIED:20250123T172018Z
UID:3445-1783447200-1783450800@carpenters106.org
SUMMARY:Union Meeting
DESCRIPTION:
URL:https://carpenters106.org/event-detail/union-meeting-12/2026-07-07/
LOCATION:Union Hall\, 1555 1st Ave N\, Altoona\, IA\, 50009\, United States
CATEGORIES:Monthly Local Meetings
END:VEVENT
BEGIN:VEVENT
DTSTART;TZID=America/New_York:20260804T180000
DTEND;TZID=America/New_York:20260804T190000
DTSTAMP:20260423T080738
CREATED:20250123T172018Z
LAST-MODIFIED:20250123T172018Z
UID:3446-1785866400-1785870000@carpenters106.org
SUMMARY:Union Meeting
DESCRIPTION:
URL:https://carpenters106.org/event-detail/union-meeting-12/2026-08-04/
LOCATION:Union Hall\, 1555 1st Ave N\, Altoona\, IA\, 50009\, United States
CATEGORIES:Monthly Local Meetings
END:VEVENT
BEGIN:VEVENT
DTSTART;TZID=America/New_York:20260901T180000
DTEND;TZID=America/New_York:20260901T190000
DTSTAMP:20260423T080738
CREATED:20250123T172018Z
LAST-MODIFIED:20250123T172018Z
UID:3447-1788285600-1788289200@carpenters106.org
SUMMARY:Union Meeting
DESCRIPTION:
URL:https://carpenters106.org/event-detail/union-meeting-12/2026-09-01/
LOCATION:Union Hall\, 1555 1st Ave N\, Altoona\, IA\, 50009\, United States
CATEGORIES:Monthly Local Meetings
END:VEVENT
BEGIN:VEVENT
DTSTART;TZID=America/New_York:20261006T180000
DTEND;TZID=America/New_York:20261006T190000
DTSTAMP:20260423T080738
CREATED:20250123T172018Z
LAST-MODIFIED:20250123T172018Z
UID:3448-1791309600-1791313200@carpenters106.org
SUMMARY:Union Meeting
DESCRIPTION:
URL:https://carpenters106.org/event-detail/union-meeting-12/2026-10-06/
LOCATION:Union Hall\, 1555 1st Ave N\, Altoona\, IA\, 50009\, United States
CATEGORIES:Monthly Local Meetings
END:VEVENT
BEGIN:VEVENT
DTSTART;TZID=America/New_York:20261103T180000
DTEND;TZID=America/New_York:20261103T190000
DTSTAMP:20260423T080738
CREATED:20250123T172018Z
LAST-MODIFIED:20250123T172018Z
UID:3449-1793728800-1793732400@carpenters106.org
SUMMARY:Union Meeting
DESCRIPTION:
URL:https://carpenters106.org/event-detail/union-meeting-12/2026-11-03/
LOCATION:Union Hall\, 1555 1st Ave N\, Altoona\, IA\, 50009\, United States
CATEGORIES:Monthly Local Meetings
END:VEVENT
BEGIN:VEVENT
DTSTART;TZID=America/New_York:20261201T180000
DTEND;TZID=America/New_York:20261201T190000
DTSTAMP:20260423T080738
CREATED:20250123T172018Z
LAST-MODIFIED:20250123T172018Z
UID:3450-1796148000-1796151600@carpenters106.org
SUMMARY:Union Meeting
DESCRIPTION:
URL:https://carpenters106.org/event-detail/union-meeting-12/2026-12-01/
LOCATION:Union Hall\, 1555 1st Ave N\, Altoona\, IA\, 50009\, United States
CATEGORIES:Monthly Local Meetings
END:VEVENT
BEGIN:VEVENT
DTSTART;TZID=America/New_York:20270105T180000
DTEND;TZID=America/New_York:20270105T190000
DTSTAMP:20260423T080738
CREATED:20250123T172018Z
LAST-MODIFIED:20250123T172018Z
UID:3451-1799172000-1799175600@carpenters106.org
SUMMARY:Union Meeting
DESCRIPTION:
URL:https://carpenters106.org/event-detail/union-meeting-12/2027-01-05/
LOCATION:Union Hall\, 1555 1st Ave N\, Altoona\, IA\, 50009\, United States
CATEGORIES:Monthly Local Meetings
END:VEVENT
BEGIN:VEVENT
DTSTART;TZID=America/New_York:20270202T180000
DTEND;TZID=America/New_York:20270202T190000
DTSTAMP:20260423T080738
CREATED:20250123T172018Z
LAST-MODIFIED:20250123T172018Z
UID:3452-1801591200-1801594800@carpenters106.org
SUMMARY:Union Meeting
DESCRIPTION:
URL:https://carpenters106.org/event-detail/union-meeting-12/2027-02-02/
LOCATION:Union Hall\, 1555 1st Ave N\, Altoona\, IA\, 50009\, United States
CATEGORIES:Monthly Local Meetings
END:VEVENT
BEGIN:VEVENT
DTSTART;TZID=America/New_York:20270302T180000
DTEND;TZID=America/New_York:20270302T190000
DTSTAMP:20260423T080738
CREATED:20250123T172018Z
LAST-MODIFIED:20250123T172018Z
UID:3453-1804010400-1804014000@carpenters106.org
SUMMARY:Union Meeting
DESCRIPTION:
URL:https://carpenters106.org/event-detail/union-meeting-12/2027-03-02/
LOCATION:Union Hall\, 1555 1st Ave N\, Altoona\, IA\, 50009\, United States
CATEGORIES:Monthly Local Meetings
END:VEVENT
BEGIN:VEVENT
DTSTART;TZID=America/New_York:20270406T180000
DTEND;TZID=America/New_York:20270406T190000
DTSTAMP:20260423T080738
CREATED:20250123T172018Z
LAST-MODIFIED:20250123T172018Z
UID:3454-1807034400-1807038000@carpenters106.org
SUMMARY:Union Meeting
DESCRIPTION:
URL:https://carpenters106.org/event-detail/union-meeting-12/2027-04-06/
LOCATION:Union Hall\, 1555 1st Ave N\, Altoona\, IA\, 50009\, United States
CATEGORIES:Monthly Local Meetings
END:VEVENT
BEGIN:VEVENT
DTSTART;TZID=America/New_York:20270504T180000
DTEND;TZID=America/New_York:20270504T190000
DTSTAMP:20260423T080738
CREATED:20250123T172018Z
LAST-MODIFIED:20250123T172018Z
UID:3455-1809453600-1809457200@carpenters106.org
SUMMARY:Union Meeting
DESCRIPTION:
URL:https://carpenters106.org/event-detail/union-meeting-12/2027-05-04/
LOCATION:Union Hall\, 1555 1st Ave N\, Altoona\, IA\, 50009\, United States
CATEGORIES:Monthly Local Meetings
END:VEVENT
BEGIN:VEVENT
DTSTART;TZID=America/New_York:20270601T180000
DTEND;TZID=America/New_York:20270601T190000
DTSTAMP:20260423T080738
CREATED:20250123T172018Z
LAST-MODIFIED:20250123T172018Z
UID:3456-1811872800-1811876400@carpenters106.org
SUMMARY:Union Meeting
DESCRIPTION:
URL:https://carpenters106.org/event-detail/union-meeting-12/2027-06-01/
LOCATION:Union Hall\, 1555 1st Ave N\, Altoona\, IA\, 50009\, United States
CATEGORIES:Monthly Local Meetings
END:VEVENT
BEGIN:VEVENT
DTSTART;TZID=America/New_York:20270706T180000
DTEND;TZID=America/New_York:20270706T190000
DTSTAMP:20260423T080738
CREATED:20250123T172018Z
LAST-MODIFIED:20250123T172018Z
UID:3457-1814896800-1814900400@carpenters106.org
SUMMARY:Union Meeting
DESCRIPTION:
URL:https://carpenters106.org/event-detail/union-meeting-12/2027-07-06/
LOCATION:Union Hall\, 1555 1st Ave N\, Altoona\, IA\, 50009\, United States
CATEGORIES:Monthly Local Meetings
END:VEVENT
BEGIN:VEVENT
DTSTART;TZID=America/New_York:20270803T180000
DTEND;TZID=America/New_York:20270803T190000
DTSTAMP:20260423T080738
CREATED:20250123T172018Z
LAST-MODIFIED:20250123T172018Z
UID:3458-1817316000-1817319600@carpenters106.org
SUMMARY:Union Meeting
DESCRIPTION:
URL:https://carpenters106.org/event-detail/union-meeting-12/2027-08-03/
LOCATION:Union Hall\, 1555 1st Ave N\, Altoona\, IA\, 50009\, United States
CATEGORIES:Monthly Local Meetings
END:VEVENT
BEGIN:VEVENT
DTSTART;TZID=America/New_York:20270907T180000
DTEND;TZID=America/New_York:20270907T190000
DTSTAMP:20260423T080738
CREATED:20250123T172018Z
LAST-MODIFIED:20250123T172018Z
UID:3459-1820340000-1820343600@carpenters106.org
SUMMARY:Union Meeting
DESCRIPTION:
URL:https://carpenters106.org/event-detail/union-meeting-12/2027-09-07/
LOCATION:Union Hall\, 1555 1st Ave N\, Altoona\, IA\, 50009\, United States
CATEGORIES:Monthly Local Meetings
END:VEVENT
BEGIN:VEVENT
DTSTART;TZID=America/New_York:20271005T180000
DTEND;TZID=America/New_York:20271005T190000
DTSTAMP:20260423T080738
CREATED:20250123T172018Z
LAST-MODIFIED:20250123T172018Z
UID:3460-1822759200-1822762800@carpenters106.org
SUMMARY:Union Meeting
DESCRIPTION:
URL:https://carpenters106.org/event-detail/union-meeting-12/2027-10-05/
LOCATION:Union Hall\, 1555 1st Ave N\, Altoona\, IA\, 50009\, United States
CATEGORIES:Monthly Local Meetings
END:VEVENT
BEGIN:VEVENT
DTSTART;TZID=America/New_York:20271102T180000
DTEND;TZID=America/New_York:20271102T190000
DTSTAMP:20260423T080738
CREATED:20250123T172018Z
LAST-MODIFIED:20250123T172018Z
UID:3461-1825178400-1825182000@carpenters106.org
SUMMARY:Union Meeting
DESCRIPTION:
URL:https://carpenters106.org/event-detail/union-meeting-12/2027-11-02/
LOCATION:Union Hall\, 1555 1st Ave N\, Altoona\, IA\, 50009\, United States
CATEGORIES:Monthly Local Meetings
END:VEVENT
BEGIN:VEVENT
DTSTART;TZID=America/New_York:20271207T180000
DTEND;TZID=America/New_York:20271207T190000
DTSTAMP:20260423T080738
CREATED:20250123T172018Z
LAST-MODIFIED:20250123T172018Z
UID:3462-1828202400-1828206000@carpenters106.org
SUMMARY:Union Meeting
DESCRIPTION:
URL:https://carpenters106.org/event-detail/union-meeting-12/2027-12-07/
LOCATION:Union Hall\, 1555 1st Ave N\, Altoona\, IA\, 50009\, United States
CATEGORIES:Monthly Local Meetings
END:VEVENT
BEGIN:VEVENT
DTSTART;TZID=America/New_York:20280104T180000
DTEND;TZID=America/New_York:20280104T190000
DTSTAMP:20260423T080738
CREATED:20250123T172018Z
LAST-MODIFIED:20250123T172018Z
UID:3463-1830621600-1830625200@carpenters106.org
SUMMARY:Union Meeting
DESCRIPTION:
URL:https://carpenters106.org/event-detail/union-meeting-12/2028-01-04/
LOCATION:Union Hall\, 1555 1st Ave N\, Altoona\, IA\, 50009\, United States
CATEGORIES:Monthly Local Meetings
END:VEVENT
BEGIN:VEVENT
DTSTART;TZID=America/New_York:20280201T180000
DTEND;TZID=America/New_York:20280201T190000
DTSTAMP:20260423T080738
CREATED:20250123T172018Z
LAST-MODIFIED:20250123T172018Z
UID:3500-1833040800-1833044400@carpenters106.org
SUMMARY:Union Meeting
DESCRIPTION:
URL:https://carpenters106.org/event-detail/union-meeting-12/2028-02-01/
LOCATION:Union Hall\, 1555 1st Ave N\, Altoona\, IA\, 50009\, United States
CATEGORIES:Monthly Local Meetings
END:VEVENT
BEGIN:VEVENT
DTSTART;TZID=America/New_York:20280307T180000
DTEND;TZID=America/New_York:20280307T190000
DTSTAMP:20260423T080738
CREATED:20250123T172018Z
LAST-MODIFIED:20250123T172018Z
UID:3564-1836064800-1836068400@carpenters106.org
SUMMARY:Union Meeting
DESCRIPTION:
URL:https://carpenters106.org/event-detail/union-meeting-12/2028-03-07/
LOCATION:Union Hall\, 1555 1st Ave N\, Altoona\, IA\, 50009\, United States
CATEGORIES:Monthly Local Meetings
END:VEVENT
BEGIN:VEVENT
DTSTART;TZID=America/New_York:20280404T180000
DTEND;TZID=America/New_York:20280404T190000
DTSTAMP:20260423T080738
CREATED:20250123T172018Z
LAST-MODIFIED:20250123T172018Z
UID:3566-1838484000-1838487600@carpenters106.org
SUMMARY:Union Meeting
DESCRIPTION:
URL:https://carpenters106.org/event-detail/union-meeting-12/2028-04-04/
LOCATION:Union Hall\, 1555 1st Ave N\, Altoona\, IA\, 50009\, United States
CATEGORIES:Monthly Local Meetings
END:VEVENT
END:VCALENDAR